{"text_format":"3","workbook":"xlsx","n_sheets":4,"sheets":["начало года","конец года","динамика","Лист3"],"not_rendered":{"external_links":1},"read":"whole","date_system":"1900"}

{"sheet":"начало года","index":0,"n_rows":50,"n_cols":36,"rows_kept":50,"merged":[[0,0,0,36],[2,0,3,2],[2,33,3,33],[2,34,3,34],[2,35,3,36],[4,0,14,1],[15,0,16,1],[17,0,19,1],[20,0,27,1],[28,0,31,1],[32,0,39,1],[40,0,46,1],[49,0,49,2]]}
["Мониторинг в соответствии с целевыми ориентирами (ранний возраст)"]
[]
["Критерии оценки",{"$nulls":32},"Сумма баллов","Среднее по строке","Сформированность показателя по группе %"]
[{"$nulls":3},1,2,3,4,5,6,7,8,9,10,11,12,13,14,15,16,17,18,19,20,21,22,23,24,25,26,27,28,29,30]
["ребенок интересуется окружающими предметами и активно действует с ними; эмоционально вовлечен в действия с игрушками и другими предметами, стремится проявлять настойчивость в достижении результата своих действий",null,1,0,{"$nulls":29},{"$f":"SUM(D5:AG5)","v":0},{"$f":"AVERAGE(D5:AG5)","v":0},{"$f":"(AI5+AI6+AI7+AI8+AI9+AI10+AI11+AI15)/8/2*100","v":0}]
[null,null,2,{"$f":"SUM(D5)","v":0},{"$nulls":29},{"$f":"SUM(D6:AG6)","v":0},{"$f":"AVERAGE(D6:AG6)","v":0}]
[null,null,3,0,{"$nulls":29},0,0]
[null,null,4,0,{"$nulls":29},0,0]
[null,null,5,0,{"$nulls":29},0,0]
[null,null,6,0,{"$nulls":29},0,0]
[null,null,7,0,{"$nulls":29},0,0]
[null,null,8,0,{"$nulls":29},0,0]
[null,null,9,0,{"$nulls":29},0,0]
[null,null,10,0,{"$nulls":29},0,0]
[null,null,11,0,{"$nulls":29},0,0]
["использует специфические, культурно фиксированные предметные действия, знает назначение бытовых предметов (ложки, расчески, карандаша и пр.) и умеет пользоваться ими. Владеет простейшими навыками самообслуживания; стремится проявлять самостоятельность в бытовом и игровом поведении;",null,12,0,{"$nulls":29},0,0,{"$f":"(AI16+AI17)/2/2*100","v":0}]
[null,null,13,0,{"$nulls":29},0,0]
["владеет активной речью, включенной в общение; может обращаться с вопросами и просьбами, понимает речь взрослых; знает названия окружающих предметов и игрушек;",null,14,0,{"$nulls":29},0,0,{"$f":"(AI18+AI19+AI20)/3/2*100","v":0}]
[null,null,15,0,{"$nulls":29},0,0]
[null,null,16,0,{"$nulls":29},0,0]
["стремится к общению со взрослыми и активно подражает им в движениях и действиях; появляются игры, в которых ребенок воспроизводит действия взрослого",null,17,0,{"$nulls":29},0,0,{"$f":"(AI21+AI22+AI23+AI24+AI25+AI26+AI28)/7/2*100","v":0}]
[null,null,18,0,{"$nulls":29},0,0]
[null,null,19,0,{"$nulls":29},0,0]
[null,null,20,0,{"$nulls":29},0,0]
[null,null,21,0,{"$nulls":29},0,0]
[null,null,22,0,{"$nulls":29},0,0]
[null,null,23,0,{"$nulls":29},0,0]
[null,null,24,0,{"$nulls":29},0,0]
["проявляет интерес к сверстникам; наблюдает за их действиями и подражает им;",null,25,0,{"$nulls":29},0,0,{"$f":"(AI29+AI32)/2/2*100","v":0}]
[null,null,26,0,{"$nulls":29},0,0]
[null,null,27,0,{"$nulls":29},0,0]
[null,null,28,0,{"$nulls":29},0,0]
["проявляет интерес к стихам, песням и сказкам, рассматриванию картинки, стремится двигаться под музыку; эмоционально откликается на различные произведения культуры и искусства;",null,29,0,{"$nulls":29},0,0,{"$f":"(AI33+AI34+AI40)/3/2*100","v":0}]
[null,null,30,0,{"$nulls":29},0,0]
[null,null,31,0,{"$nulls":29},0,0]
[null,null,32,0,{"$nulls":29},0,0]
[null,null,33,0,{"$nulls":29},0,0]
[null,null,34,0,{"$nulls":29},0,0]
[null,null,35,0,{"$nulls":29},0,0]
[null,null,36,0,{"$nulls":29},0,0]
["у ребенка развита крупная моторика, он стремится осваивать различные виды движения (бег, лазанье, перешагивание и пр.).",null,37,0,{"$nulls":29},0,0,{"$f":"(AI41+AI42+AI43+AI44+AI45+AI46+AI47)/7/2*100","v":0}]
[null,null,38,0,{"$nulls":29},0,0]
[null,null,39,0,{"$nulls":29},0,0]
[null,null,40,0,{"$nulls":29},0,0]
[null,null,41,0,{"$nulls":29},0,0]
[null,null,42,0,{"$nulls":29},0,0]
[null,null,43,0,{"$nulls":29},0,0]
["общее кол-во баллов",null,null,0,{"$f":"SUM(E47)","v":0},{"$f":"SUM(F47)","v":0},{"$f":"SUM(G47)","v":0},{"$f":"SUM(H47)","v":0},{"$f":"SUM(I47)","v":0},{"$f":"SUM(J47)","v":0},{"$f":"SUM(K47)","v":0},{"$f":"SUM(L47)","v":0},{"$f":"SUM(M47)","v":0},{"$f":"SUM(N47)","v":0},{"$f":"SUM(O47)","v":0},{"$f":"SUM(P47)","v":0},{"$f":"SUM(Q47)","v":0},{"$f":"SUM(R47)","v":0},{"$f":"SUM(S47)","v":0},{"$f":"SUM(T47)","v":0},{"$f":"SUM(U47)","v":0},{"$f":"SUM(V47)","v":0},{"$f":"SUM(W47)","v":0},{"$f":"SUM(X47)","v":0},{"$f":"SUM(Y47)","v":0},{"$f":"SUM(Z47)","v":0},{"$f":"SUM(AA47)","v":0},{"$f":"SUM(AB47)","v":0},{"$f":"SUM(AC47)","v":0},{"$f":"SUM(AD47)","v":0},{"$f":"SUM(AE47)","v":0},{"$f":"SUM(AF47)","v":0},{"$f":"SUM(AG47)","v":0},{"$f":"SUM(AH47)","v":0},{"$f":"SUM(AI47)","v":0}]
["среднее ",null,null,{"$f":"D48/86","v":0},{"$f":"E48/86","v":0},0,0,0,0,0,0,0,0,0,0,0,0,0,0,0,0,0,0,0,0,0,0,0,0,0,0,0,0,0,0]
["Соответствие ЦО",null,null,{"$f":"D48/86*100","v":0},{"$f":"E48/86*100","v":0},0,0,0,0,0,0,0,0,0,0,0,0,0,0,0,0,0,0,0,0,0,0,0,0,0,0,0,0,0,0]

{"sheet":"конец года","index":1,"n_rows":50,"n_cols":36,"rows_kept":50,"merged":[[0,0,0,36],[2,0,3,2],[2,33,3,33],[2,34,3,34],[2,35,3,36],[4,0,14,1],[15,0,16,1],[17,0,19,1],[20,0,27,1],[28,0,31,1],[32,0,39,1],[40,0,46,1],[49,0,49,2]]}
["Мониторинг в соответствии с целевыми ориентирами (ранний возраст)"]
[]
["Критерии оценки",null,null,{"$f":"'начало года'!D3","v":0},{"$f":"'начало года'!E3","v":0},{"$f":"'начало года'!F3","v":0},{"$f":"'начало года'!G3","v":0},{"$f":"'начало года'!H3","v":0},{"$f":"'начало года'!I3","v":0},{"$f":"'начало года'!J3","v":0},{"$f":"'начало года'!K3","v":0},{"$f":"'начало года'!L3","v":0},{"$f":"'начало года'!M3","v":0},{"$f":"'начало года'!N3","v":0},{"$f":"'начало года'!O3","v":0},{"$f":"'начало года'!P3","v":0},{"$f":"'начало года'!Q3","v":0},{"$f":"'начало года'!R3","v":0},{"$f":"'начало года'!S3","v":0},{"$f":"'начало года'!T3","v":0},{"$f":"'начало года'!U3","v":0},{"$f":"'начало года'!V3","v":0},{"$f":"'начало года'!W3","v":0},{"$f":"'начало года'!X3","v":0},{"$f":"'начало года'!Y3","v":0},{"$f":"'начало года'!Z3","v":0},{"$f":"'начало года'!AA3","v":0},{"$f":"'начало года'!AB3","v":0},{"$f":"'начало года'!AC3","v":0},{"$f":"'начало года'!AD3","v":0},{"$f":"'начало года'!AE3","v":0},{"$f":"'начало года'!AF3","v":0},{"$f":"'начало года'!AG3","v":0},"Сумма баллов","Среднее по строке","Сформированность показателя по группе %"]
[{"$nulls":3},1,2,3,4,5,6,7,8,9,10,11,12,13,14,15,16,17,18,19,20,21,22,23,24,25,26,27,28,29,30]
["ребенок интересуется окружающими предметами и активно действует с ними; эмоционально вовлечен в действия с игрушками и другими предметами, стремится проявлять настойчивость в достижении результата своих действий",null,1,0,{"$nulls":29},{"$f":"SUM(D5:AG5)","v":0},{"$f":"AVERAGE(D5:AG5)","v":0},{"$f":"(AI5+AI6+AI7+AI8+AI9+AI10+AI11+AI15)/8/2*100","v":0}]
[null,null,2,{"$f":"SUM(D5)","v":0},{"$nulls":29},{"$f":"SUM(D6:AG6)","v":0},{"$f":"AVERAGE(D6:AG6)","v":0}]
[null,null,3,0,{"$nulls":29},0,0]
[null,null,4,0,{"$nulls":29},0,0]
[null,null,5,0,{"$nulls":29},0,0]
[null,null,6,0,{"$nulls":29},0,0]
[null,null,7,0,{"$nulls":29},0,0]
[null,null,8,0,{"$nulls":29},0,0]
[null,null,9,0,{"$nulls":29},0,0]
[null,null,10,0,{"$nulls":29},0,0]
[null,null,11,0,{"$nulls":29},0,0]
["использует специфические, культурно фиксированные предметные действия, знает назначение бытовых предметов (ложки, расчески, карандаша и пр.) и умеет пользоваться ими. Владеет простейшими навыками самообслуживания; стремится проявлять самостоятельность в бытовом и игровом поведении;",null,12,0,{"$nulls":29},0,0,{"$f":"(AI16+AI17)/2/2*100","v":0}]
[null,null,13,0,{"$nulls":29},0,0]
["владеет активной речью, включенной в общение; может обращаться с вопросами и просьбами, понимает речь взрослых; знает названия окружающих предметов и игрушек;",null,14,0,{"$nulls":29},0,0,{"$f":"(AI18+AI19+AI20)/3/2*100","v":0}]
[null,null,15,0,{"$nulls":29},0,0]
[null,null,16,0,{"$nulls":29},0,0]
["стремится к общению со взрослыми и активно подражает им в движениях и действиях; появляются игры, в которых ребенок воспроизводит действия взрослого",null,17,0,{"$nulls":29},0,0,{"$f":"(AI21+AI22+AI23+AI24+AI25+AI26+AI28)/7/2*100","v":0}]
[null,null,18,0,{"$nulls":29},0,0]
[null,null,19,0,{"$nulls":29},0,0]
[null,null,20,0,{"$nulls":29},0,0]
[null,null,21,0,{"$nulls":29},0,0]
[null,null,22,0,{"$nulls":29},0,0]
[null,null,23,0,{"$nulls":29},0,0]
[null,null,24,0,{"$nulls":29},0,0]
["проявляет интерес к сверстникам; наблюдает за их действиями и подражает им;",null,25,0,{"$nulls":29},0,0,{"$f":"(AI29+AI32)/2/2*100","v":0}]
[null,null,26,0,{"$nulls":29},0,0]
[null,null,27,0,{"$nulls":29},0,0]
[null,null,28,0,{"$nulls":29},0,0]
["проявляет интерес к стихам, песням и сказкам, рассматриванию картинки, стремится двигаться под музыку; эмоционально откликается на различные произведения культуры и искусства;",null,29,0,{"$nulls":29},0,0,{"$f":"(AI33+AI34+AI40)/3/2*100","v":0}]
[null,null,30,0,{"$nulls":29},0,0]
[null,null,31,0,{"$nulls":29},0,0]
[null,null,32,0,{"$nulls":29},0,0]
[null,null,33,0,{"$nulls":29},0,0]
[null,null,34,0,{"$nulls":29},0,0]
[null,null,35,0,{"$nulls":29},0,0]
[null,null,36,0,{"$nulls":29},0,0]
["у ребенка развита крупная моторика, он стремится осваивать различные виды движения (бег, лазанье, перешагивание и пр.).",null,37,0,{"$nulls":29},0,0,{"$f":"(AI41+AI42+AI43+AI44+AI45+AI46+AI47)/7/2*100","v":0}]
[null,null,38,0,{"$nulls":29},0,0]
[null,null,39,0,{"$nulls":29},0,0]
[null,null,40,0,{"$nulls":29},0,0]
[null,null,41,0,{"$nulls":29},0,0]
[null,null,42,0,{"$nulls":29},0,0]
[null,null,43,0,{"$nulls":29},0,0]
["общее кол-во баллов",null,null,0,0,0,0,0,0,0,0,0,0,0,0,0,0,0,0,{"$f":"SUM(T47)","v":0},0,0,0,0,0,0,0,0,0,0,0,0,0,0,0]
["среднее ",null,null,{"$f":"D48/86","v":0},{"$f":"E48/86","v":0},0,0,0,0,0,0,0,0,0,0,0,0,0,0,0,0,0,0,0,0,0,0,0,0,0,0,0,0,0,0]
["Соответствие ЦО",null,null,{"$f":"D48/86*100","v":0},{"$f":"E48/86*100","v":0},0,0,0,0,0,0,0,0,0,0,0,0,0,0,0,0,0,0,0,0,0,0,0,0,0,0,0,0,0,0]

{"sheet":"динамика","index":2,"n_rows":43,"n_cols":6,"rows_kept":43,"merged":[[0,4,0,5],[31,1,31,3],[33,0,33,5]]}
[null,"ФИО детей","Результат на начало года","Результат на конец года","Динамика изменений"]
[1,{"$f":"'начало года'!D3","v":0},{"$f":"'начало года'!D50","v":0},{"$f":"'конец года'!D50","v":0},{"$f":"IF(OR(C2=\"-\",D2=\"-\"),\"-\",D2-C2)","v":0},"%"]
[2,{"$f":"'начало года'!E3","v":0},{"$f":"'начало года'!E50","v":0},{"$f":"'конец года'!E50","v":0},0,"%"]
[3,{"$f":"'начало года'!F3","v":0},{"$f":"'начало года'!F50","v":0},{"$f":"'конец года'!F50","v":0},0,"%"]
[4,{"$f":"'начало года'!G3","v":0},{"$f":"'начало года'!G50","v":0},{"$f":"'конец года'!G50","v":0},0,"%"]
[5,{"$f":"'начало года'!H3","v":0},{"$f":"'начало года'!H50","v":0},{"$f":"'конец года'!H50","v":0},0,"%"]
[6,{"$f":"'начало года'!I3","v":0},{"$f":"'начало года'!I50","v":0},{"$f":"'конец года'!I50","v":0},0,"%"]
[7,{"$f":"'начало года'!J3","v":0},{"$f":"'начало года'!J50","v":0},{"$f":"'конец года'!J50","v":0},0,"%"]
[8,{"$f":"'начало года'!K3","v":0},{"$f":"'начало года'!K50","v":0},{"$f":"'конец года'!K50","v":0},0,"%"]
[9,{"$f":"'начало года'!L3","v":0},{"$f":"'начало года'!L50","v":0},{"$f":"'конец года'!L50","v":0},0,"%"]
[10,{"$f":"'начало года'!M3","v":0},{"$f":"'начало года'!M50","v":0},{"$f":"'конец года'!M50","v":0},0,"%"]
[11,{"$f":"'начало года'!N3","v":0},{"$f":"'начало года'!N50","v":0},{"$f":"'конец года'!N50","v":0},0,"%"]
[12,{"$f":"'начало года'!O3","v":0},{"$f":"'начало года'!O50","v":0},{"$f":"'конец года'!O50","v":0},0,"%"]
[13,{"$f":"'начало года'!P3","v":0},{"$f":"'начало года'!P50","v":0},{"$f":"'конец года'!P50","v":0},0,"%"]
[14,{"$f":"'начало года'!Q3","v":0},{"$f":"'начало года'!Q50","v":0},{"$f":"'конец года'!Q50","v":0},0,"%"]
[15,{"$f":"'начало года'!R3","v":0},{"$f":"'начало года'!R50","v":0},{"$f":"'конец года'!R50","v":0},0,"%"]
[16,{"$f":"'начало года'!S3","v":0},{"$f":"'начало года'!S50","v":0},{"$f":"'конец года'!S50","v":0},0,"%"]
[17,{"$f":"'начало года'!T3","v":0},{"$f":"'начало года'!T50","v":0},{"$f":"'конец года'!T50","v":0},0,"%"]
[18,{"$f":"'начало года'!U3","v":0},{"$f":"'начало года'!U50","v":0},{"$f":"'конец года'!U50","v":0},0,"%"]
[19,{"$f":"'начало года'!V3","v":0},{"$f":"'начало года'!V50","v":0},{"$f":"'конец года'!V50","v":0},0,"%"]
[20,{"$f":"'начало года'!W3","v":0},{"$f":"'начало года'!W50","v":0},{"$f":"'конец года'!W50","v":0},0,"%"]
[21,{"$f":"'начало года'!X3","v":0},{"$f":"'начало года'!X50","v":0},{"$f":"'конец года'!X50","v":0},0,"%"]
[22,{"$f":"'начало года'!Y3","v":0},{"$f":"'начало года'!Y50","v":0},{"$f":"'конец года'!Y50","v":0},0,"%"]
[23,{"$f":"'начало года'!Z3","v":0},{"$f":"'начало года'!Z50","v":0},{"$f":"'конец года'!Z50","v":0},0,"%"]
[24,{"$f":"'начало года'!AA3","v":0},{"$f":"'начало года'!AA50","v":0},{"$f":"'конец года'!AA50","v":0},0,"%"]
[25,{"$f":"'начало года'!AB3","v":0},{"$f":"'начало года'!AB50","v":0},{"$f":"'конец года'!AB50","v":0},0,"%"]
[26,{"$f":"'начало года'!AC3","v":0},{"$f":"'начало года'!AC50","v":0},{"$f":"'конец года'!AC50","v":0},0,"%"]
[27,{"$f":"'начало года'!AD3","v":0},{"$f":"'начало года'!AD50","v":0},{"$f":"'конец года'!AD50","v":0},0,"%"]
[28,{"$f":"'начало года'!AE3","v":0},{"$f":"'начало года'!AE50","v":0},{"$f":"'конец года'!AE50","v":0},0,"%"]
[29,{"$f":"'начало года'!AF3","v":0},{"$f":"'начало года'!AF50","v":0},{"$f":"'конец года'!AF50","v":0},0,"%"]
[30,{"$f":"'начало года'!AG3","v":0},{"$f":"'начало года'!AG50","v":0},{"$f":"'конец года'!AG50","v":0},0,"%"]
[null,"Динамика по группе",null,null,{"$f":"AVERAGE(E2:E31)","v":0},"%"]
[]
["Динамика изменений по соответствию целевым ориентирам"]
[null,null,{"$f":"'[1]6-й год начало года'!AJ4","v":"Среднее значение по строке"},{"$f":"'[1]6-й год конец года'!AJ4","v":"Среднее значение по строке"},{"$f":"D35-C35","v":{"$error":"#VALUE!"}},"%"]
[1,"ребенок интересуется окружающими предметами и активно действует с ними; эмоционально вовлечен в действия с игрушками и другими предметами, стремится проявлять настойчивость в достижении результата своих действий",{"$f":"'начало года'!AJ5","v":0},{"$f":"'конец года'!AJ5","v":0},0,"%"]
[2,"использует специфические, культурно фиксированные предметные действия, знает назначение бытовых предметов (ложки, расчески, карандаша и пр.) и умеет пользоваться ими. Владеет простейшими навыками самообслуживания; стремится проявлять самостоятельность в бытовом и игровом поведении;",{"$f":"'начало года'!AJ16","v":0},{"$f":"'конец года'!AJ16","v":0},0,"%"]
[3,"владеет активной речью, включенной в общение; может обращаться с вопросами и просьбами, понимает речь взрослых; знает названия окружающих предметов и игрушек;",{"$f":"'начало года'!AJ18","v":0},{"$f":"'конец года'!AJ18","v":0},0,"%"]
[4,"стремится к общению со взрослыми и активно подражает им в движениях и действиях; появляются игры, в которых ребенок воспроизводит действия взрослого",{"$f":"'начало года'!AJ18","v":0},{"$f":"'конец года'!AJ21","v":0},0,"%"]
[5,"проявляет интерес к сверстникам; наблюдает за их действиями и подражает им;",{"$f":"'начало года'!AJ21","v":0},{"$f":"'конец года'!AJ29","v":0},0,"%"]
[6,"проявляет интерес к стихам, песням и сказкам, рассматриванию картинки, стремится двигаться под музыку; эмоционально откликается на различные произведения культуры и искусства;",{"$f":"'начало года'!AJ33","v":0},{"$f":"'конец года'!AJ33","v":0},0,"%"]
[7,"у ребенка развита крупная моторика, он стремится осваивать различные виды движения (бег, лазанье, перешагивание и пр.).",{"$f":"'начало года'!AJ41","v":0},{"$f":"'конец года'!AJ41","v":0},0,"%"]
[null,null,{"$f":"AVERAGE(C36:C42)","v":0},{"$f":"AVERAGE(D36:D42)","v":0},0,"%"]

{"sheet":"Лист3","index":3,"n_rows":0,"n_cols":0,"rows_kept":0}